BEGIN:VCALENDAR
VERSION:2.0
PRODID:-//CERN//INDICO//EN
BEGIN:VEVENT
SUMMARY:Preparation of the CPAN Spanish input to the European Strategy for
  Particle Physics Update
DTSTART;VALUE=DATE-TIME:20241121T110000Z
DTEND;VALUE=DATE-TIME:20241121T113000Z
DTSTAMP;VALUE=DATE-TIME:20260421T082729Z
UID:indico-contribution-24591@indico.ific.uv.es
DESCRIPTION:Speakers: Maria Jose Costa (IFIC)\nhttps://indico.ific.uv.es/e
 vent/7664/contributions/24591/
LOCATION:
URL:https://indico.ific.uv.es/event/7664/contributions/24591/
END:VEVENT
END:VCALENDAR
