BEGIN:VCALENDAR
VERSION:2.0
PRODID:-//CERN//INDICO//EN
BEGIN:VEVENT
SUMMARY:Spanish Contribution to LHC Run-3
DTSTART;VALUE=DATE-TIME:20241121T093000Z
DTEND;VALUE=DATE-TIME:20241121T095500Z
DTSTAMP;VALUE=DATE-TIME:20260421T143859Z
UID:indico-contribution-24589@indico.ific.uv.es
DESCRIPTION:Speakers: Barbara Alvarez Gonzalez (Universidad de Oviedo)\nht
 tps://indico.ific.uv.es/event/7664/contributions/24589/
LOCATION:
URL:https://indico.ific.uv.es/event/7664/contributions/24589/
END:VEVENT
END:VCALENDAR
