BEGIN:VCALENDAR
VERSION:2.0
PRODID:-//CERN//INDICO//EN
BEGIN:VEVENT
SUMMARY:The Electron Ion Collider
DTSTART;VALUE=DATE-TIME:20241120T164000Z
DTEND;VALUE=DATE-TIME:20241120T170500Z
DTSTAMP;VALUE=DATE-TIME:20260421T143741Z
UID:indico-contribution-24588@indico.ific.uv.es
DESCRIPTION:Speakers: Abhay Deshpande ()\nhttps://indico.ific.uv.es/event/
 7664/contributions/24588/
LOCATION:
URL:https://indico.ific.uv.es/event/7664/contributions/24588/
END:VEVENT
END:VCALENDAR
