BEGIN:VCALENDAR
VERSION:2.0
PRODID:-//CERN//INDICO//EN
BEGIN:VEVENT
SUMMARY:NUPPEC Strategy
DTSTART;VALUE=DATE-TIME:20241121T083000Z
DTEND;VALUE=DATE-TIME:20241121T085500Z
DTSTAMP;VALUE=DATE-TIME:20260421T082801Z
UID:indico-contribution-24587@indico.ific.uv.es
DESCRIPTION:Speakers: Joaquin Gomez Camacho (Centro Nacional de Acelerador
 es - Universidad de Sevilla)\nhttps://indico.ific.uv.es/event/7664/contrib
 utions/24587/
LOCATION:
URL:https://indico.ific.uv.es/event/7664/contributions/24587/
END:VEVENT
END:VCALENDAR
