BEGIN:VCALENDAR
VERSION:2.0
PRODID:-//CERN//INDICO//EN
BEGIN:VEVENT
SUMMARY:Instrumentation network overview
DTSTART;VALUE=DATE-TIME:20241121T080000Z
DTEND;VALUE=DATE-TIME:20241121T082500Z
DTSTAMP;VALUE=DATE-TIME:20260421T082705Z
UID:indico-contribution-24586@indico.ific.uv.es
DESCRIPTION:Speakers: Iván Vila Alvarez (Instituto de Física de Cantabri
 a (CSIC-UC))\nhttps://indico.ific.uv.es/event/7664/contributions/24586/
LOCATION:
URL:https://indico.ific.uv.es/event/7664/contributions/24586/
END:VEVENT
END:VCALENDAR
