BEGIN:VCALENDAR
VERSION:2.0
PRODID:-//CERN//INDICO//EN
BEGIN:VEVENT
SUMMARY:CEvNS in the Standard Model and Beyond
DTSTART;VALUE=DATE-TIME:20241120T171000Z
DTEND;VALUE=DATE-TIME:20241120T172700Z
DTSTAMP;VALUE=DATE-TIME:20260421T143845Z
UID:indico-contribution-24584@indico.ific.uv.es
DESCRIPTION:Speakers: Valentina De Romeri (IFIC\, CSIC-U. Valencia)\nhttps
 ://indico.ific.uv.es/event/7664/contributions/24584/
LOCATION:
URL:https://indico.ific.uv.es/event/7664/contributions/24584/
END:VEVENT
END:VCALENDAR
