BEGIN:VCALENDAR
VERSION:2.0
PRODID:-//CERN//INDICO//EN
BEGIN:VEVENT
SUMMARY:Measurement of Coherent Elastic Neutrino-Nucleus Scattering
DTSTART;VALUE=DATE-TIME:20241120T173000Z
DTEND;VALUE=DATE-TIME:20241120T174700Z
DTSTAMP;VALUE=DATE-TIME:20260421T141042Z
UID:indico-contribution-24583@indico.ific.uv.es
DESCRIPTION:Speakers: Francesc Monrabal ()\nhttps://indico.ific.uv.es/even
 t/7664/contributions/24583/
LOCATION:
URL:https://indico.ific.uv.es/event/7664/contributions/24583/
END:VEVENT
END:VCALENDAR
