BEGIN:VCALENDAR
VERSION:2.0
PRODID:-//CERN//INDICO//EN
BEGIN:VEVENT
SUMMARY:Quantum detectors for HEP
DTSTART;VALUE=DATE-TIME:20241120T140000Z
DTEND;VALUE=DATE-TIME:20241120T142500Z
DTSTAMP;VALUE=DATE-TIME:20260424T094702Z
UID:indico-contribution-24581@indico.ific.uv.es
DESCRIPTION:Speakers: Clara Murgui Galvez ()\nhttps://indico.ific.uv.es/ev
 ent/7664/contributions/24581/
LOCATION:
URL:https://indico.ific.uv.es/event/7664/contributions/24581/
END:VEVENT
END:VCALENDAR
