BEGIN:VCALENDAR
VERSION:2.0
PRODID:-//CERN//INDICO//EN
BEGIN:VEVENT
SUMMARY:Cosmology interpretation of DESI 2024 results
DTSTART;VALUE=DATE-TIME:20241120T120000Z
DTEND;VALUE=DATE-TIME:20241120T122500Z
DTSTAMP;VALUE=DATE-TIME:20260422T101800Z
UID:indico-contribution-24580@indico.ific.uv.es
DESCRIPTION:Speakers: Licia Verde (ICCUB)\nhttps://indico.ific.uv.es/event
 /7664/contributions/24580/
LOCATION:
URL:https://indico.ific.uv.es/event/7664/contributions/24580/
END:VEVENT
END:VCALENDAR
