BEGIN:VCALENDAR
VERSION:2.0
PRODID:-//CERN//INDICO//EN
BEGIN:VEVENT
SUMMARY:QCD: present and future
DTSTART;VALUE=DATE-TIME:20241120T150000Z
DTEND;VALUE=DATE-TIME:20241120T152500Z
DTSTAMP;VALUE=DATE-TIME:20260421T082721Z
UID:indico-contribution-24577@indico.ific.uv.es
DESCRIPTION:Speakers: Maria Zurita (University of Santiago de Compostela)\
 nhttps://indico.ific.uv.es/event/7664/contributions/24577/
LOCATION:
URL:https://indico.ific.uv.es/event/7664/contributions/24577/
END:VEVENT
END:VCALENDAR
