BEGIN:VCALENDAR
VERSION:2.0
PRODID:-//CERN//INDICO//EN
BEGIN:VEVENT
SUMMARY:Spanish contributions to the legacy of the LHC Run-2 results
DTSTART;VALUE=DATE-TIME:20241120T113000Z
DTEND;VALUE=DATE-TIME:20241120T115500Z
DTSTAMP;VALUE=DATE-TIME:20260424T170500Z
UID:indico-contribution-24575@indico.ific.uv.es
DESCRIPTION:Speakers: Imma Riu (IFAE Barcelona)\nhttps://indico.ific.uv.es
 /event/7664/contributions/24575/
LOCATION:
URL:https://indico.ific.uv.es/event/7664/contributions/24575/
END:VEVENT
END:VCALENDAR
