BEGIN:VCALENDAR
VERSION:2.0
PRODID:-//CERN//INDICO//EN
BEGIN:VEVENT
SUMMARY:IJCLab
DTSTART;VALUE=DATE-TIME:20240524T095000Z
DTEND;VALUE=DATE-TIME:20240524T101000Z
DTSTAMP;VALUE=DATE-TIME:20260421T163301Z
UID:indico-contribution-23898@indico.ific.uv.es
DESCRIPTION:https://indico.ific.uv.es/event/7627/contributions/23898/
LOCATION:
URL:https://indico.ific.uv.es/event/7627/contributions/23898/
END:VEVENT
END:VCALENDAR
