BEGIN:VCALENDAR
VERSION:2.0
PRODID:-//CERN//INDICO//EN
BEGIN:VEVENT
SUMMARY:Reunión Comité Asesor de Artemisa
DTSTART;VALUE=DATE-TIME:20240212T133000Z
DTEND;VALUE=DATE-TIME:20240212T162000Z
DTSTAMP;VALUE=DATE-TIME:20260422T072915Z
UID:indico-event-7438@indico.ific.uv.es
DESCRIPTION:Unirse a la reunión Zoom:\n\nhttps://cern.zoom.us/j/615787763
 98?pwd=NVdMQUdoMXBvUE9uYm1YdVE3RWlCUT09\n\n \n\n \n\nhttps://indico.ific
 .uv.es/event/7438/
LOCATION:
URL:https://indico.ific.uv.es/event/7438/
END:VEVENT
END:VCALENDAR
