BEGIN:VCALENDAR
VERSION:2.0
PRODID:-//CERN//INDICO//EN
BEGIN:VEVENT
SUMMARY:Evaluación de las solicitudes de la convocatoria 2024.1
DTSTART;VALUE=DATE-TIME:20240212T134500Z
DTEND;VALUE=DATE-TIME:20240212T145500Z
DTSTAMP;VALUE=DATE-TIME:20260422T041235Z
UID:indico-contribution-22536@indico.ific.uv.es
DESCRIPTION:Speakers: Jose Enrique Garcia Navarro (IFIC (Instituto de Fisi
 ca Corpuscular))\nhttps://indico.ific.uv.es/event/7438/contributions/22536
 /
LOCATION:
URL:https://indico.ific.uv.es/event/7438/contributions/22536/
END:VEVENT
END:VCALENDAR
