BEGIN:VCALENDAR
VERSION:2.0
PRODID:-//CERN//INDICO//EN
BEGIN:VEVENT
SUMMARY:Novedades sobre el Plan Complementario y InnDIH
DTSTART;VALUE=DATE-TIME:20240212T145500Z
DTEND;VALUE=DATE-TIME:20240212T150500Z
DTSTAMP;VALUE=DATE-TIME:20260422T041240Z
UID:indico-contribution-22535@indico.ific.uv.es
DESCRIPTION:https://indico.ific.uv.es/event/7438/contributions/22535/
LOCATION:
URL:https://indico.ific.uv.es/event/7438/contributions/22535/
END:VEVENT
END:VCALENDAR
