BEGIN:VCALENDAR
VERSION:2.0
PRODID:-//CERN//INDICO//EN
BEGIN:VEVENT
SUMMARY:Ruegos y preguntas
DTSTART;VALUE=DATE-TIME:20240212T152500Z
DTEND;VALUE=DATE-TIME:20240212T154000Z
DTSTAMP;VALUE=DATE-TIME:20260422T105841Z
UID:indico-contribution-22533@indico.ific.uv.es
DESCRIPTION:https://indico.ific.uv.es/event/7438/contributions/22533/
LOCATION:
URL:https://indico.ific.uv.es/event/7438/contributions/22533/
END:VEVENT
END:VCALENDAR
