BEGIN:VCALENDAR
VERSION:2.0
PRODID:-//CERN//INDICO//EN
BEGIN:VEVENT
SUMMARY:Situación general de Artemisa
DTSTART;VALUE=DATE-TIME:20240212T133000Z
DTEND;VALUE=DATE-TIME:20240212T134500Z
DTSTAMP;VALUE=DATE-TIME:20260422T041226Z
UID:indico-contribution-22531@indico.ific.uv.es
DESCRIPTION:Speakers: Fco. Javier Sanchez Martinez (IFIC)\, Matías Saline
 ro Delgado (IFIC)\nhttps://indico.ific.uv.es/event/7438/contributions/2253
 1/
LOCATION:
URL:https://indico.ific.uv.es/event/7438/contributions/22531/
END:VEVENT
END:VCALENDAR
