BEGIN:VCALENDAR
VERSION:2.0
PRODID:-//CERN//INDICO//EN
BEGIN:VEVENT
SUMMARY:Wrap-up - time for discussion
DTSTART;VALUE=DATE-TIME:20240202T122000Z
DTEND;VALUE=DATE-TIME:20240202T125500Z
DTSTAMP;VALUE=DATE-TIME:20260421T021339Z
UID:indico-event-3673@indico.ific.uv.es
DESCRIPTION:Zoom: https://cern.zoom.us/j/4922818606?pwd=Lzc3U3N5NlMremZxVW
 ZuZkVpeU05UT09\n\nhttps://indico.ific.uv.es/event/7347/sessions/3673/
LOCATION:Universe 1001-Primera-1-1-1 - Paterna. Seminario
URL:https://indico.ific.uv.es/event/7347/sessions/3673/
END:VEVENT
END:VCALENDAR
