BEGIN:VCALENDAR
VERSION:2.0
PRODID:-//CERN//INDICO//EN
BEGIN:VEVENT
SUMMARY:Search of dark-matter axions in the microwave frequency range with
  full-wave modal techniques
DTSTART;VALUE=DATE-TIME:20240201T172000Z
DTEND;VALUE=DATE-TIME:20240201T174000Z
DTSTAMP;VALUE=DATE-TIME:20260420T104103Z
UID:indico-contribution-3672-22512@indico.ific.uv.es
DESCRIPTION:Speakers: José Reina Valero (IFIC (CSIC-UV))\nhttps://indico.
 ific.uv.es/event/7347/contributions/22512/
LOCATION:Universe 1001-Primera-1-1-1 - Paterna. Seminario
URL:https://indico.ific.uv.es/event/7347/contributions/22512/
END:VEVENT
BEGIN:VEVENT
SUMMARY:Feasibility studies of an extraction line for radiobiology studies
DTSTART;VALUE=DATE-TIME:20240201T170500Z
DTEND;VALUE=DATE-TIME:20240201T172000Z
DTSTAMP;VALUE=DATE-TIME:20260420T104103Z
UID:indico-contribution-3672-22139@indico.ific.uv.es
DESCRIPTION:Speakers: Eduardo Martinez ()\nhttps://indico.ific.uv.es/event
 /7347/contributions/22139/
LOCATION:Universe 1001-Primera-1-1-1 - Paterna. Seminario
URL:https://indico.ific.uv.es/event/7347/contributions/22139/
END:VEVENT
BEGIN:VEVENT
SUMMARY:LLRF control and adquisition system based on uTCA
DTSTART;VALUE=DATE-TIME:20240201T164500Z
DTEND;VALUE=DATE-TIME:20240201T170500Z
DTSTAMP;VALUE=DATE-TIME:20260420T104103Z
UID:indico-contribution-3672-22138@indico.ific.uv.es
DESCRIPTION:Speakers: Abraham Menéndez ()\nhttps://indico.ific.uv.es/even
 t/7347/contributions/22138/
LOCATION:Universe 1001-Primera-1-1-1 - Paterna. Seminario
URL:https://indico.ific.uv.es/event/7347/contributions/22138/
END:VEVENT
END:VCALENDAR
