BEGIN:VCALENDAR
VERSION:2.0
PRODID:-//CERN//INDICO//EN
BEGIN:VEVENT
SUMMARY:Dinner
DTSTART;VALUE=DATE-TIME:20240201T203000Z
DTEND;VALUE=DATE-TIME:20240201T223000Z
DTSTAMP;VALUE=DATE-TIME:20260421T021342Z
UID:indico-event-3671@indico.ific.uv.es
DESCRIPTION:https://indico.ific.uv.es/event/7347/sessions/3671/
LOCATION:
URL:https://indico.ific.uv.es/event/7347/sessions/3671/
END:VEVENT
END:VCALENDAR
