BEGIN:VCALENDAR
VERSION:2.0
PRODID:-//CERN//INDICO//EN
BEGIN:VEVENT
SUMMARY:Search for exotic Higgs decays with the ATLAS experiment
DTSTART;VALUE=DATE-TIME:20240202T120000Z
DTEND;VALUE=DATE-TIME:20240202T121000Z
DTSTAMP;VALUE=DATE-TIME:20260423T220511Z
UID:indico-contribution-3669-22469@indico.ific.uv.es
DESCRIPTION:Speakers: Judith Hoefer ()\nhttps://indico.ific.uv.es/event/73
 47/contributions/22469/
LOCATION:Universe 1001-Primera-1-1-1 - Paterna. Seminario
URL:https://indico.ific.uv.es/event/7347/contributions/22469/
END:VEVENT
BEGIN:VEVENT
SUMMARY:Searching for Feebly Interacting Particles at the LHC with the MoE
 DAL-MAPP Experiment
DTSTART;VALUE=DATE-TIME:20240202T114500Z
DTEND;VALUE=DATE-TIME:20240202T115500Z
DTSTAMP;VALUE=DATE-TIME:20260423T220511Z
UID:indico-contribution-3669-22124@indico.ific.uv.es
DESCRIPTION:Speakers: Michael Staelens (Instituto de Física Corpuscular (
 IFIC))\nhttps://indico.ific.uv.es/event/7347/contributions/22124/
LOCATION:Universe 1001-Primera-1-1-1 - Paterna. Seminario
URL:https://indico.ific.uv.es/event/7347/contributions/22124/
END:VEVENT
BEGIN:VEVENT
SUMMARY:Overview of ATLAS BSM and MoEDAL
DTSTART;VALUE=DATE-TIME:20240202T111000Z
DTEND;VALUE=DATE-TIME:20240202T114000Z
DTSTAMP;VALUE=DATE-TIME:20260423T220511Z
UID:indico-contribution-3669-22123@indico.ific.uv.es
DESCRIPTION:Speakers: Vasiliki Mitsou (IFIC Valencia)\nhttps://indico.ific
 .uv.es/event/7347/contributions/22123/
LOCATION:Universe 1001-Primera-1-1-1 - Paterna. Seminario
URL:https://indico.ific.uv.es/event/7347/contributions/22123/
END:VEVENT
BEGIN:VEVENT
SUMMARY:Study of the multipactor effect in RF particle accelerators
DTSTART;VALUE=DATE-TIME:20240201T152500Z
DTEND;VALUE=DATE-TIME:20240201T154500Z
DTSTAMP;VALUE=DATE-TIME:20260423T220511Z
UID:indico-contribution-3669-22141@indico.ific.uv.es
DESCRIPTION:Speakers: Daniel Gonzalez Iglesias (IFIC - CSIC\, U. de Valenc
 ia)\nhttps://indico.ific.uv.es/event/7347/contributions/22141/
LOCATION:Universe 1001-Primera-1-1-1 - Paterna. Seminario
URL:https://indico.ific.uv.es/event/7347/contributions/22141/
END:VEVENT
BEGIN:VEVENT
SUMMARY:Beam Loading simulations in the tracking code RF-Track
DTSTART;VALUE=DATE-TIME:20240201T155500Z
DTEND;VALUE=DATE-TIME:20240201T160500Z
DTSTAMP;VALUE=DATE-TIME:20260423T220511Z
UID:indico-contribution-3669-22140@indico.ific.uv.es
DESCRIPTION:Speakers: Javier Olivares ()\, Javier Olivares Herrador (CERN 
 - University of Valencia (IFIC))\nhttps://indico.ific.uv.es/event/7347/con
 tributions/22140/
LOCATION:Universe 1001-Primera-1-1-1 - Paterna. Seminario
URL:https://indico.ific.uv.es/event/7347/contributions/22140/
END:VEVENT
BEGIN:VEVENT
SUMMARY:ILC cavity BPM design studies
DTSTART;VALUE=DATE-TIME:20240201T154500Z
DTEND;VALUE=DATE-TIME:20240201T155500Z
DTSTAMP;VALUE=DATE-TIME:20260423T220511Z
UID:indico-contribution-3669-22121@indico.ific.uv.es
DESCRIPTION:Speakers: Laura Pedraza Motavita ()\nhttps://indico.ific.uv.es
 /event/7347/contributions/22121/
LOCATION:Universe 1001-Primera-1-1-1 - Paterna. Seminario
URL:https://indico.ific.uv.es/event/7347/contributions/22121/
END:VEVENT
BEGIN:VEVENT
SUMMARY:High Granular Calorimetry to break into the era of Strong Fields Q
 ED
DTSTART;VALUE=DATE-TIME:20240201T103500Z
DTEND;VALUE=DATE-TIME:20240201T104500Z
DTSTAMP;VALUE=DATE-TIME:20260423T220511Z
UID:indico-contribution-3669-22119@indico.ific.uv.es
DESCRIPTION:Speakers: Melissa Almanza Soto (IFIC)\nhttps://indico.ific.uv.
 es/event/7347/contributions/22119/
LOCATION:Universe 1001-Primera-1-1-1 - Paterna. Seminario
URL:https://indico.ific.uv.es/event/7347/contributions/22119/
END:VEVENT
BEGIN:VEVENT
SUMMARY:High Granular Calorimetry for LUXE and FutureColliders
DTSTART;VALUE=DATE-TIME:20240201T100000Z
DTEND;VALUE=DATE-TIME:20240201T103000Z
DTSTAMP;VALUE=DATE-TIME:20260423T220511Z
UID:indico-contribution-3669-22118@indico.ific.uv.es
DESCRIPTION:Speakers: Adrian Irles (IFIC (UV/CSIC) Valencia (ES))\nhttps:/
 /indico.ific.uv.es/event/7347/contributions/22118/
LOCATION:Universe 1001-Primera-1-1-1 - Paterna. Seminario
URL:https://indico.ific.uv.es/event/7347/contributions/22118/
END:VEVENT
END:VCALENDAR
