BEGIN:VCALENDAR
VERSION:2.0
PRODID:-//CERN//INDICO//EN
BEGIN:VEVENT
SUMMARY:Hydrodynamic model for particle beam-driven wakefield in MWCNT
DTSTART;VALUE=DATE-TIME:20240201T114500Z
DTEND;VALUE=DATE-TIME:20240201T120000Z
DTSTAMP;VALUE=DATE-TIME:20260420T170457Z
UID:indico-contribution-22466@indico.ific.uv.es
DESCRIPTION:Speakers: Pablo Martín Luna (IFIC(CSIC-UV))\nhttps://indico.i
 fic.uv.es/event/7347/contributions/22466/
LOCATION:Universe 1001-Primera-1-1-1 - Paterna. Seminario
URL:https://indico.ific.uv.es/event/7347/contributions/22466/
END:VEVENT
END:VCALENDAR
