BEGIN:VCALENDAR
VERSION:2.0
PRODID:-//CERN//INDICO//EN
BEGIN:VEVENT
SUMMARY:pole mass from di-lepton
DTSTART;VALUE=DATE-TIME:20240201T145500Z
DTEND;VALUE=DATE-TIME:20240201T150500Z
DTSTAMP;VALUE=DATE-TIME:20260420T072755Z
UID:indico-contribution-22128@indico.ific.uv.es
DESCRIPTION:Speakers: Luis Monsonis Romero (CSIC)\nhttps://indico.ific.uv.
 es/event/7347/contributions/22128/
LOCATION:Universe 1001-Primera-1-1-1 - Paterna. Seminario
URL:https://indico.ific.uv.es/event/7347/contributions/22128/
END:VEVENT
END:VCALENDAR
