BEGIN:VCALENDAR
VERSION:2.0
PRODID:-//CERN//INDICO//EN
BEGIN:VEVENT
SUMMARY:ILC cavity BPM design studies
DTSTART;VALUE=DATE-TIME:20240201T154500Z
DTEND;VALUE=DATE-TIME:20240201T155500Z
DTSTAMP;VALUE=DATE-TIME:20260420T104304Z
UID:indico-contribution-22121@indico.ific.uv.es
DESCRIPTION:Speakers: Laura Pedraza Motavita ()\nhttps://indico.ific.uv.es
 /event/7347/contributions/22121/
LOCATION:Universe 1001-Primera-1-1-1 - Paterna. Seminario
URL:https://indico.ific.uv.es/event/7347/contributions/22121/
END:VEVENT
END:VCALENDAR
