BEGIN:VCALENDAR
VERSION:2.0
PRODID:-//CERN//INDICO//EN
BEGIN:VEVENT
SUMMARY:Organización General
DTSTART;VALUE=DATE-TIME:20231212T135000Z
DTEND;VALUE=DATE-TIME:20231212T140000Z
DTSTAMP;VALUE=DATE-TIME:20260424T051034Z
UID:indico-contribution-7334-22024@indico.ific.uv.es
DESCRIPTION:https://indico.ific.uv.es/event/7334/contributions/22024/
LOCATION:
URL:https://indico.ific.uv.es/event/7334/contributions/22024/
END:VEVENT
BEGIN:VEVENT
SUMMARY:Novedades sobre el Plan Complementario y InnDIH
DTSTART;VALUE=DATE-TIME:20231212T140000Z
DTEND;VALUE=DATE-TIME:20231212T141000Z
DTSTAMP;VALUE=DATE-TIME:20260424T051034Z
UID:indico-contribution-7334-22023@indico.ific.uv.es
DESCRIPTION:https://indico.ific.uv.es/event/7334/contributions/22023/
LOCATION:
URL:https://indico.ific.uv.es/event/7334/contributions/22023/
END:VEVENT
BEGIN:VEVENT
SUMMARY:Reunión AIHUB y novedades
DTSTART;VALUE=DATE-TIME:20231212T141000Z
DTEND;VALUE=DATE-TIME:20231212T143000Z
DTSTAMP;VALUE=DATE-TIME:20260424T051034Z
UID:indico-contribution-7334-22022@indico.ific.uv.es
DESCRIPTION:Speakers: Arantza Oyanguren (IFIC- Valencia)\nhttps://indico.i
 fic.uv.es/event/7334/contributions/22022/
LOCATION:
URL:https://indico.ific.uv.es/event/7334/contributions/22022/
END:VEVENT
BEGIN:VEVENT
SUMMARY:Ruegos y preguntas
DTSTART;VALUE=DATE-TIME:20231212T144000Z
DTEND;VALUE=DATE-TIME:20231212T145500Z
DTSTAMP;VALUE=DATE-TIME:20260424T051034Z
UID:indico-contribution-7334-22021@indico.ific.uv.es
DESCRIPTION:https://indico.ific.uv.es/event/7334/contributions/22021/
LOCATION:
URL:https://indico.ific.uv.es/event/7334/contributions/22021/
END:VEVENT
BEGIN:VEVENT
SUMMARY:Fecha de la próxima reunión
DTSTART;VALUE=DATE-TIME:20231212T143000Z
DTEND;VALUE=DATE-TIME:20231212T144000Z
DTSTAMP;VALUE=DATE-TIME:20260424T051034Z
UID:indico-contribution-7334-22020@indico.ific.uv.es
DESCRIPTION:https://indico.ific.uv.es/event/7334/contributions/22020/
LOCATION:
URL:https://indico.ific.uv.es/event/7334/contributions/22020/
END:VEVENT
BEGIN:VEVENT
SUMMARY:Situación general de Artemisa
DTSTART;VALUE=DATE-TIME:20231212T133000Z
DTEND;VALUE=DATE-TIME:20231212T135000Z
DTSTAMP;VALUE=DATE-TIME:20260424T051034Z
UID:indico-contribution-7334-22019@indico.ific.uv.es
DESCRIPTION:Speakers: Fco. Javier Sanchez Martinez (IFIC)\, Matías Saline
 ro Delgado (IFIC)\nhttps://indico.ific.uv.es/event/7334/contributions/2201
 9/
LOCATION:
URL:https://indico.ific.uv.es/event/7334/contributions/22019/
END:VEVENT
END:VCALENDAR
