BEGIN:VCALENDAR
VERSION:2.0
PRODID:-//CERN//INDICO//EN
BEGIN:VEVENT
SUMMARY:Organización General
DTSTART;VALUE=DATE-TIME:20231212T135000Z
DTEND;VALUE=DATE-TIME:20231212T140000Z
DTSTAMP;VALUE=DATE-TIME:20260423T114822Z
UID:indico-contribution-22024@indico.ific.uv.es
DESCRIPTION:https://indico.ific.uv.es/event/7334/contributions/22024/
LOCATION:
URL:https://indico.ific.uv.es/event/7334/contributions/22024/
END:VEVENT
END:VCALENDAR
