BEGIN:VCALENDAR
VERSION:2.0
PRODID:-//CERN//INDICO//EN
BEGIN:VEVENT
SUMMARY:Fecha de la próxima reunión
DTSTART;VALUE=DATE-TIME:20231212T143000Z
DTEND;VALUE=DATE-TIME:20231212T144000Z
DTSTAMP;VALUE=DATE-TIME:20260424T113724Z
UID:indico-contribution-22020@indico.ific.uv.es
DESCRIPTION:https://indico.ific.uv.es/event/7334/contributions/22020/
LOCATION:
URL:https://indico.ific.uv.es/event/7334/contributions/22020/
END:VEVENT
END:VCALENDAR
