BEGIN:VCALENDAR
VERSION:2.0
PRODID:-//CERN//INDICO//EN
BEGIN:VEVENT
SUMMARY:Science at IFIC: summary of research lines
DTSTART;VALUE=DATE-TIME:20231129T085000Z
DTEND;VALUE=DATE-TIME:20231129T090000Z
DTSTAMP;VALUE=DATE-TIME:20260419T134827Z
UID:indico-contribution-22094@indico.ific.uv.es
DESCRIPTION:Speakers: Luis Alvarez Ruso (IFIC)\nhttps://indico.ific.uv.es/
 event/7260/contributions/22094/
LOCATION:Salón de Actos del Edificio de Cabecera del Parque Científico
URL:https://indico.ific.uv.es/event/7260/contributions/22094/
END:VEVENT
END:VCALENDAR
