BEGIN:VCALENDAR
VERSION:2.0
PRODID:-//CERN//INDICO//EN
BEGIN:VEVENT
SUMMARY:Evaluación de las solicitudes de la convocatoria 2023.3
DTSTART;VALUE=DATE-TIME:20231017T124500Z
DTEND;VALUE=DATE-TIME:20231017T135500Z
DTSTAMP;VALUE=DATE-TIME:20260424T070716Z
UID:indico-contribution-21663@indico.ific.uv.es
DESCRIPTION:Speakers: Jose Enrique Garcia Navarro (IFIC (Instituto de Fisi
 ca Corpuscular))\nhttps://indico.ific.uv.es/event/7256/contributions/21663
 /
LOCATION:
URL:https://indico.ific.uv.es/event/7256/contributions/21663/
END:VEVENT
END:VCALENDAR
