BEGIN:VCALENDAR
VERSION:2.0
PRODID:-//CERN//INDICO//EN
BEGIN:VEVENT
SUMMARY:Novedades sobre el Plan Complementario y InnDIH
DTSTART;VALUE=DATE-TIME:20231017T135500Z
DTEND;VALUE=DATE-TIME:20231017T140500Z
DTSTAMP;VALUE=DATE-TIME:20260424T070710Z
UID:indico-contribution-21662@indico.ific.uv.es
DESCRIPTION:https://indico.ific.uv.es/event/7256/contributions/21662/
LOCATION:
URL:https://indico.ific.uv.es/event/7256/contributions/21662/
END:VEVENT
END:VCALENDAR
