BEGIN:VCALENDAR
VERSION:2.0
PRODID:-//CERN//INDICO//EN
BEGIN:VEVENT
SUMMARY:Reunión AIHUB y novedades
DTSTART;VALUE=DATE-TIME:20231017T140500Z
DTEND;VALUE=DATE-TIME:20231017T141500Z
DTSTAMP;VALUE=DATE-TIME:20260424T070710Z
UID:indico-contribution-21661@indico.ific.uv.es
DESCRIPTION:Speakers: Arantza Oyanguren (IFIC- Valencia)\nhttps://indico.i
 fic.uv.es/event/7256/contributions/21661/
LOCATION:
URL:https://indico.ific.uv.es/event/7256/contributions/21661/
END:VEVENT
END:VCALENDAR
