BEGIN:VCALENDAR
VERSION:2.0
PRODID:-//CERN//INDICO//EN
BEGIN:VEVENT
SUMMARY:Ruegos y preguntas
DTSTART;VALUE=DATE-TIME:20231017T142500Z
DTEND;VALUE=DATE-TIME:20231017T144000Z
DTSTAMP;VALUE=DATE-TIME:20260424T070711Z
UID:indico-contribution-21660@indico.ific.uv.es
DESCRIPTION:https://indico.ific.uv.es/event/7256/contributions/21660/
LOCATION:
URL:https://indico.ific.uv.es/event/7256/contributions/21660/
END:VEVENT
END:VCALENDAR
