BEGIN:VCALENDAR
VERSION:2.0
PRODID:-//CERN//INDICO//EN
BEGIN:VEVENT
SUMMARY:Fecha de la próxima reunión
DTSTART;VALUE=DATE-TIME:20231017T141500Z
DTEND;VALUE=DATE-TIME:20231017T142500Z
DTSTAMP;VALUE=DATE-TIME:20260424T070710Z
UID:indico-contribution-21659@indico.ific.uv.es
DESCRIPTION:https://indico.ific.uv.es/event/7256/contributions/21659/
LOCATION:
URL:https://indico.ific.uv.es/event/7256/contributions/21659/
END:VEVENT
END:VCALENDAR
