BEGIN:VCALENDAR
VERSION:2.0
PRODID:-//CERN//INDICO//EN
BEGIN:VEVENT
SUMMARY:Situación general de Artemisa
DTSTART;VALUE=DATE-TIME:20231017T123000Z
DTEND;VALUE=DATE-TIME:20231017T124500Z
DTSTAMP;VALUE=DATE-TIME:20260424T112527Z
UID:indico-contribution-21658@indico.ific.uv.es
DESCRIPTION:Speakers: Fco. Javier Sanchez Martinez (IFIC)\nhttps://indico.
 ific.uv.es/event/7256/contributions/21658/
LOCATION:
URL:https://indico.ific.uv.es/event/7256/contributions/21658/
END:VEVENT
END:VCALENDAR
