BEGIN:VCALENDAR
VERSION:2.0
PRODID:-//CERN//INDICO//EN
BEGIN:VEVENT
SUMMARY:WP21 HDR Source Calibration
DTSTART;VALUE=DATE-TIME:20230920T070000Z
DTEND;VALUE=DATE-TIME:20230920T090000Z
DTSTAMP;VALUE=DATE-TIME:20260420T135156Z
UID:indico-event-3513@indico.ific.uv.es
DESCRIPTION:https://indico.ific.uv.es/event/7201/sessions/3513/
LOCATION:Universe
URL:https://indico.ific.uv.es/event/7201/sessions/3513/
END:VEVENT
END:VCALENDAR
