BEGIN:VCALENDAR
VERSION:2.0
PRODID:-//CERN//INDICO//EN
BEGIN:VEVENT
SUMMARY:Evaluación de las solicitudes de la convocatoria 2023.2
DTSTART;VALUE=DATE-TIME:20230619T134500Z
DTEND;VALUE=DATE-TIME:20230619T145500Z
DTSTAMP;VALUE=DATE-TIME:20260424T052231Z
UID:indico-contribution-7111-21031@indico.ific.uv.es
DESCRIPTION:Speakers: Jose Enrique Garcia Navarro (IFIC (Instituto de Fisi
 ca Corpuscular))\nhttps://indico.ific.uv.es/event/7111/contributions/21031
 /
LOCATION:
URL:https://indico.ific.uv.es/event/7111/contributions/21031/
END:VEVENT
BEGIN:VEVENT
SUMMARY:Novedades sobre el Plan Complementario y InnDIH
DTSTART;VALUE=DATE-TIME:20230619T145500Z
DTEND;VALUE=DATE-TIME:20230619T150500Z
DTSTAMP;VALUE=DATE-TIME:20260424T052231Z
UID:indico-contribution-7111-21029@indico.ific.uv.es
DESCRIPTION:https://indico.ific.uv.es/event/7111/contributions/21029/
LOCATION:
URL:https://indico.ific.uv.es/event/7111/contributions/21029/
END:VEVENT
BEGIN:VEVENT
SUMMARY:Reunión AIHUB y novedades
DTSTART;VALUE=DATE-TIME:20230619T150500Z
DTEND;VALUE=DATE-TIME:20230619T151500Z
DTSTAMP;VALUE=DATE-TIME:20260424T052231Z
UID:indico-contribution-7111-21028@indico.ific.uv.es
DESCRIPTION:Speakers: Arantza Oyanguren (IFIC- Valencia)\nhttps://indico.i
 fic.uv.es/event/7111/contributions/21028/
LOCATION:
URL:https://indico.ific.uv.es/event/7111/contributions/21028/
END:VEVENT
BEGIN:VEVENT
SUMMARY:Ruegos y preguntas
DTSTART;VALUE=DATE-TIME:20230619T152500Z
DTEND;VALUE=DATE-TIME:20230619T154000Z
DTSTAMP;VALUE=DATE-TIME:20260424T052231Z
UID:indico-contribution-7111-21027@indico.ific.uv.es
DESCRIPTION:https://indico.ific.uv.es/event/7111/contributions/21027/
LOCATION:
URL:https://indico.ific.uv.es/event/7111/contributions/21027/
END:VEVENT
BEGIN:VEVENT
SUMMARY:Fecha de la próxima reunión
DTSTART;VALUE=DATE-TIME:20230619T151500Z
DTEND;VALUE=DATE-TIME:20230619T152500Z
DTSTAMP;VALUE=DATE-TIME:20260424T052231Z
UID:indico-contribution-7111-21026@indico.ific.uv.es
DESCRIPTION:https://indico.ific.uv.es/event/7111/contributions/21026/
LOCATION:
URL:https://indico.ific.uv.es/event/7111/contributions/21026/
END:VEVENT
BEGIN:VEVENT
SUMMARY:Situación general de Artemisa
DTSTART;VALUE=DATE-TIME:20230619T133000Z
DTEND;VALUE=DATE-TIME:20230619T134500Z
DTSTAMP;VALUE=DATE-TIME:20260424T052231Z
UID:indico-contribution-7111-21025@indico.ific.uv.es
DESCRIPTION:Speakers: Fco. Javier Sanchez Martinez (IFIC)\nhttps://indico.
 ific.uv.es/event/7111/contributions/21025/
LOCATION:
URL:https://indico.ific.uv.es/event/7111/contributions/21025/
END:VEVENT
END:VCALENDAR
