BEGIN:VCALENDAR
VERSION:2.0
PRODID:-//CERN//INDICO//EN
BEGIN:VEVENT
SUMMARY:IFIC Seminar: Exploring the WIMP multi-dimensional parameter space
  with WimPyDD
DTSTART;VALUE=DATE-TIME:20230516T100000Z
DTEND;VALUE=DATE-TIME:20230516T120000Z
DTSTAMP;VALUE=DATE-TIME:20260423T121601Z
UID:indico-event-7060@indico.ific.uv.es
DESCRIPTION:\nWimPyDD is a modular\, object–oriented and customizable Py
 thon code\nthat calculates accurate predictions of nuclear scattering expe
 cted\nrates for Weakly Interacting Massive Particle (WIMP) direct–detect
 ion\nexperiments and capture in celestial bodies within the framework of\n
 Galilean–invariant non–relativistic effective theory (NREF) in\nvirtua
 lly any scenario\, including inelastic scattering\, an arbitrary\nWIMP spi
 n and a generic WIMP velocity distribution in the Galactic\nhalo. I will s
 how the capabilities of WimPyDD in several practical\nexamples: 1) the stu
 dy of the phenomenology of the NREFT for a WIMP of\nspin up to J=2\; 2) th
 e maximal variation of the exclusion plot for\neach of the Wilson coeffici
 ents of the NREFT due to the interference\namong different operators\; 3) 
 the calculation of improved constraints\non inelastic dark matter from the
 ir capture and annihilation in white\ndwarves\; 4) the extension to low WI
 MP masses of the direct detection\nbounds to operators up to dimension 7 o
 f the relativistic effective\nfield theory describing WIMP interactions wi
 th quarks and gluons using\nthe Migdal effect\; 5) the determination of th
 e halo-independent bounds\non each of the couplings of the NREFT for a WIM
 P of spin 1/2.  WimPyDD\nallows to explore in a fast and efficient way the
 oretical scenarios\nwith a large parameter space by encoding the propertie
 s of the target\nin tabulated response functions that are interpolated at 
 run time and\ndo not depend on the WIMP mass\, on the halo function or on 
 the\nparameters of the effective Hamiltonian. WimPyDD can be downloaded an
 d\ninstalled from https://wimpydd.hepforge.org/\n\nhttps://indico.ific.uv.
 es/event/7060/
LOCATION:Campus Burjassot 4-4-4426 - Seminari Física Teòrica
URL:https://indico.ific.uv.es/event/7060/
END:VEVENT
END:VCALENDAR
