BEGIN:VCALENDAR
VERSION:2.0
PRODID:-//CERN//INDICO//EN
BEGIN:VEVENT
SUMMARY:Norberto Scoccola\, "Aspects of Excited Baryon Phenomenology in th
 e 1/Nc expansion of QCD"
DTSTART;VALUE=DATE-TIME:20220216T103000Z
DTEND;VALUE=DATE-TIME:20220216T120000Z
DTSTAMP;VALUE=DATE-TIME:20260420T100331Z
UID:indico-event-7023@indico.ific.uv.es
DESCRIPTION:Author: Prof. Norberto Scoccola\n\nAffiliation: Investigador d
 e la Comisión Nacional de Energía Atómica(CNEA) y del Consejo Nacional 
 de Investigaciones Científicas y Técnicas (CONICET)\, Argentina)\n\nSumm
 ary: We report on the application of the 1/N𝑐 expansion of QCD to the d
 escription of the properties of non‐strange excited baryons belonging to
  the [70\, 1⎯]‐plet. In particular\, we present the results of an impr
 oved determination of the corresponding mixing angles obtained by performi
 ng a simultaneous fit of masses and strong decay widths. We find 𝜃1 =
  0.47±0.06 and 𝜃3 = 2.74±0.07. These values are within the rang
 e of those determined in previous non‐global analyses but have smaller u
 ncertainties.\n\n \n\nThis Seminar has received funding/support from the 
 Conselleria de Innovación\, Universidades\, Ciencia y Sociedad Digital un
 der the Research Project "Understanding non-perturbative Phenomena in fund
 amental physics" (PROMETEO/2021/083).\n\nhttps://indico.ific.uv.es/event/7
 023/
LOCATION:Campus Burjassot 4-4-4426 - Seminari Física Teòrica
URL:https://indico.ific.uv.es/event/7023/
END:VEVENT
END:VCALENDAR
