BEGIN:VCALENDAR
VERSION:2.0
PRODID:-//CERN//INDICO//EN
BEGIN:VEVENT
SUMMARY:Session
DTSTART;VALUE=DATE-TIME:20230328T080000Z
DTEND;VALUE=DATE-TIME:20230328T100000Z
DTSTAMP;VALUE=DATE-TIME:20260420T161154Z
UID:indico-event-3131@indico.ific.uv.es
DESCRIPTION:https://indico.ific.uv.es/event/6974/sessions/3131/
LOCATION:IFIC Seminar Room -1st Floor-
URL:https://indico.ific.uv.es/event/6974/sessions/3131/
END:VEVENT
END:VCALENDAR
