BEGIN:VCALENDAR
VERSION:2.0
PRODID:-//CERN//INDICO//EN
BEGIN:VEVENT
SUMMARY:Renovación ISO27001
DTSTART;VALUE=DATE-TIME:20230419T123000Z
DTEND;VALUE=DATE-TIME:20230419T125000Z
DTSTAMP;VALUE=DATE-TIME:20260424T081445Z
UID:indico-contribution-6962-20221@indico.ific.uv.es
DESCRIPTION:https://indico.ific.uv.es/event/6962/contributions/20221/
LOCATION:
URL:https://indico.ific.uv.es/event/6962/contributions/20221/
END:VEVENT
BEGIN:VEVENT
SUMMARY:Discusión: Comentarios nuevos miembros comité
DTSTART;VALUE=DATE-TIME:20230419T134000Z
DTEND;VALUE=DATE-TIME:20230419T140000Z
DTSTAMP;VALUE=DATE-TIME:20260424T081445Z
UID:indico-contribution-6962-20219@indico.ific.uv.es
DESCRIPTION:https://indico.ific.uv.es/event/6962/contributions/20219/
LOCATION:
URL:https://indico.ific.uv.es/event/6962/contributions/20219/
END:VEVENT
BEGIN:VEVENT
SUMMARY:Novedades sobre el Plan Complementario y InnDIH
DTSTART;VALUE=DATE-TIME:20230419T133000Z
DTEND;VALUE=DATE-TIME:20230419T134000Z
DTSTAMP;VALUE=DATE-TIME:20260424T081445Z
UID:indico-contribution-6962-20218@indico.ific.uv.es
DESCRIPTION:https://indico.ific.uv.es/event/6962/contributions/20218/
LOCATION:
URL:https://indico.ific.uv.es/event/6962/contributions/20218/
END:VEVENT
BEGIN:VEVENT
SUMMARY:Reunión AIHUB y novedades
DTSTART;VALUE=DATE-TIME:20230419T131000Z
DTEND;VALUE=DATE-TIME:20230419T133000Z
DTSTAMP;VALUE=DATE-TIME:20260424T081445Z
UID:indico-contribution-6962-20217@indico.ific.uv.es
DESCRIPTION:Speakers: Arantza Oyanguren (IFIC- Valencia)\nhttps://indico.i
 fic.uv.es/event/6962/contributions/20217/
LOCATION:
URL:https://indico.ific.uv.es/event/6962/contributions/20217/
END:VEVENT
BEGIN:VEVENT
SUMMARY:Ruegos y preguntas
DTSTART;VALUE=DATE-TIME:20230419T141000Z
DTEND;VALUE=DATE-TIME:20230419T142500Z
DTSTAMP;VALUE=DATE-TIME:20260424T081445Z
UID:indico-contribution-6962-20216@indico.ific.uv.es
DESCRIPTION:https://indico.ific.uv.es/event/6962/contributions/20216/
LOCATION:
URL:https://indico.ific.uv.es/event/6962/contributions/20216/
END:VEVENT
BEGIN:VEVENT
SUMMARY:Fecha de la próxima reunión
DTSTART;VALUE=DATE-TIME:20230419T140000Z
DTEND;VALUE=DATE-TIME:20230419T141000Z
DTSTAMP;VALUE=DATE-TIME:20260424T081445Z
UID:indico-contribution-6962-20215@indico.ific.uv.es
DESCRIPTION:https://indico.ific.uv.es/event/6962/contributions/20215/
LOCATION:
URL:https://indico.ific.uv.es/event/6962/contributions/20215/
END:VEVENT
BEGIN:VEVENT
SUMMARY:Situación general de Artemisa
DTSTART;VALUE=DATE-TIME:20230419T125000Z
DTEND;VALUE=DATE-TIME:20230419T131000Z
DTSTAMP;VALUE=DATE-TIME:20260424T081445Z
UID:indico-contribution-6962-20214@indico.ific.uv.es
DESCRIPTION:Speakers: Fco. Javier Sanchez Martinez (IFIC)\nhttps://indico.
 ific.uv.es/event/6962/contributions/20214/
LOCATION:
URL:https://indico.ific.uv.es/event/6962/contributions/20214/
END:VEVENT
END:VCALENDAR
