BEGIN:VCALENDAR
VERSION:2.0
PRODID:-//CERN//INDICO//EN
BEGIN:VEVENT
SUMMARY:Aproximación didáctica a la física de partículas y el Modelo E
 stándar
DTSTART;VALUE=DATE-TIME:20230324T160000Z
DTEND;VALUE=DATE-TIME:20230324T180000Z
DTSTAMP;VALUE=DATE-TIME:20260421T082740Z
UID:indico-contribution-20150@indico.ific.uv.es
DESCRIPTION:Speakers: Paula Tuzón (Departament de Didàctica de les Cièn
 cies Experimentals y Socials\, Facultat de Magisteri\, Universitat de Val
 ència)\nQué saben los estudiantes de secundaria sobre la física de part
 ículas. Aproximarse a la cuestión desde el currículum de secundaria. An
 álisis crítico de metodologías en el aula.\n\nhttps://indico.ific.uv.es
 /event/6950/contributions/20150/
LOCATION:
URL:https://indico.ific.uv.es/event/6950/contributions/20150/
END:VEVENT
END:VCALENDAR
