BEGIN:VCALENDAR
VERSION:2.0
PRODID:-//CERN//INDICO//EN
BEGIN:VEVENT
SUMMARY:Experimentos de física de partículas para el aula
DTSTART;VALUE=DATE-TIME:20230421T150000Z
DTEND;VALUE=DATE-TIME:20230421T170000Z
DTSTAMP;VALUE=DATE-TIME:20260422T030742Z
UID:indico-contribution-20149@indico.ific.uv.es
DESCRIPTION:Speakers: Jose Enrique Garcia Navarro (IFIC (Instituto de Fisi
 ca Corpuscular))\nFabricación de una cámara de niebla casera\, con la qu
 e se puede observar la radiactividad ambiental. Aceleradores de bolas: mag
 nético y eléctrico.\n\nhttps://indico.ific.uv.es/event/6950/contribution
 s/20149/
LOCATION:Instituto de Física Corpuscular (IFIC)
URL:https://indico.ific.uv.es/event/6950/contributions/20149/
END:VEVENT
END:VCALENDAR
