BEGIN:VCALENDAR
VERSION:2.0
PRODID:-//CERN//INDICO//EN
BEGIN:VEVENT
SUMMARY:Gravedad más allá de Einstein
DTSTART;VALUE=DATE-TIME:20230425T150000Z
DTEND;VALUE=DATE-TIME:20230425T170000Z
DTSTAMP;VALUE=DATE-TIME:20260422T101810Z
UID:indico-contribution-20148@indico.ific.uv.es
DESCRIPTION:Speakers: Gonzalo Olmo Alba (IFIC)\nAlgunas nociones de la gra
 vedad de Einstein. Más allá de la relatividad general. Agujeros negros y
  radiación de Hawking.\n\nhttps://indico.ific.uv.es/event/6950/contributi
 ons/20148/
LOCATION:
URL:https://indico.ific.uv.es/event/6950/contributions/20148/
END:VEVENT
END:VCALENDAR
