BEGIN:VCALENDAR
VERSION:2.0
PRODID:-//CERN//INDICO//EN
BEGIN:VEVENT
SUMMARY:Física de partículas en aceleradores
DTSTART;VALUE=DATE-TIME:20230327T150000Z
DTEND;VALUE=DATE-TIME:20230327T170000Z
DTSTAMP;VALUE=DATE-TIME:20260424T133029Z
UID:indico-contribution-20146@indico.ific.uv.es
DESCRIPTION:Speakers: Carmen Garcia (IFIC)\nLa importancia de los acelerad
 ores en física de partículas. Aceleradores lineales y aceleradores circu
 lares. Detectores de partículas en los grandes aceleradores.\n\nhttps://i
 ndico.ific.uv.es/event/6950/contributions/20146/
LOCATION:
URL:https://indico.ific.uv.es/event/6950/contributions/20146/
END:VEVENT
END:VCALENDAR
