BEGIN:VCALENDAR
VERSION:2.0
PRODID:-//CERN//INDICO//EN
BEGIN:VEVENT
SUMMARY:Introducción a la teoría cuántica
DTSTART;VALUE=DATE-TIME:20230313T160000Z
DTEND;VALUE=DATE-TIME:20230313T180000Z
DTSTAMP;VALUE=DATE-TIME:20260421T165133Z
UID:indico-contribution-20143@indico.ific.uv.es
DESCRIPTION:Speakers: Alberto Aparici (IFIC)\nEl átomo de Bohr y magnitud
 es cuantizadas. Ecuación de Schrödinger y función de onda. El teorema d
 e incertidumbre de Heisenberg y el carácter de las magnitudes físicas. T
 eoría cuántica de campos.\n\nhttps://indico.ific.uv.es/event/6950/contri
 butions/20143/
LOCATION:
URL:https://indico.ific.uv.es/event/6950/contributions/20143/
END:VEVENT
END:VCALENDAR
