BEGIN:VCALENDAR
VERSION:2.0
PRODID:-//CERN//INDICO//EN
BEGIN:VEVENT
SUMMARY:Introducción a la teoría de la relatividad
DTSTART;VALUE=DATE-TIME:20230306T160000Z
DTEND;VALUE=DATE-TIME:20230306T180000Z
DTSTAMP;VALUE=DATE-TIME:20260424T094701Z
UID:indico-contribution-20142@indico.ific.uv.es
DESCRIPTION:Speakers: Alberto Aparici (IFIC)\nEl movimiento de la luz. La 
 percepción del espacio y tiempo es diferente para observadores diferentes
 . La velocidad de la luz como límite. La fuerza de la gravedad como fuerz
 a de inercia: principio de equivalencia y espacio-tiempo curvado. Agujeros
  negros. Ondas gravitacionales.\n\nhttps://indico.ific.uv.es/event/6950/co
 ntributions/20142/
LOCATION:
URL:https://indico.ific.uv.es/event/6950/contributions/20142/
END:VEVENT
END:VCALENDAR
