BEGIN:VCALENDAR
VERSION:2.0
PRODID:-//CERN//INDICO//EN
BEGIN:VEVENT
SUMMARY:Charlas CPAN 2012-2013 en IES de Huelva.
DTSTART;VALUE=DATE-TIME:20121011T070000Z
DTEND;VALUE=DATE-TIME:20130531T150000Z
DTSTAMP;VALUE=DATE-TIME:20260423T190326Z
UID:indico-event-694@indico.ific.uv.es
DESCRIPTION:El Centro Nacional de Física de Partículas\, Astropartícula
 s y Nuclear (CPAN) y sus centros participantes ofrecen una serie de charla
 s divulgativas a demanda para Institutos de Educación Secundaria. Un comp
 leto recorrido por unas disciplinas científicas situadas en la frontera d
 el conocimiento humano\, que buscan la respuesta a las preguntas esenciale
 s: ¿de qué están hechas las cosas? ¿Cómo se formó el Universo donde 
 vivimos? ¿Y la materia que nos compone? ¿Cómo evolucionará el Universo
 ? ¿Podemos mejorar nuestro aprovechamiento de la energía? ¿Y utilizar n
 uestro conocimiento para mejorar el diagnóstico de enfermedades?\n\nLos t
 emas de las conferencias abarcan los ámbitos donde trabajan los grupos de
  investigación del CPAN: la Física Experimental de Altas Energías y el 
 LHC\, el mayor acelerador de partículas del mundo que trata de desvelar c
 uestiones fundamentales como el origen de la masa o la existencia de part
 ículas supersimétricas\; las teorías sobre el origen y final del Univer
 so realizadas por los experimentos que se realizan en Física de Astropart
 ículas\; las investigaciones más actuales en Física Nuclear\, relaciona
 das con sus aplicaciones en diagnóstico y terapia médica o en energía\;
  y las bases teóricas de todo esto\, la Teoría de la Relatividad de Eins
 tein... Esta actividad se desarrolla hasta el final del curso 2011/2012.\n
 \nEste registro es para las charlas:\n                            Ciencia 
 y tecnología nuclear\n                            A lo largo de la histor
 ia\, la humanidad ha intentado entender la estructura y los mecanismos de 
 la naturaleza que nos rodea. ¿Por qué el universo y la naturaleza que no
 s rodea tienen la estructura que observamos? ¿Cuáles son los constituyen
 tes de la materia? ¿Cuál es el origen del universo? Estas investigacione
 s se han producido básicamente por dos razones\, la curiosidad intelectua
 l (investigación básica) y la mejora del bienestar social (investigació
 n aplicada). En esta charla se exponen los conceptos básicos de la físic
 a nuclear y se enlazan con aplicaciones industriales e investigación bás
 ica. \n\n                            Ernest Rutherford\, el cañón\, la h
 oja de papel y el origen de la Física Nuclear\n                          
   El neozelandés Ernest Rutherford ha sido una figura fundamental en  la 
 Física (a pesar de recibir el premio Nobel de Química en 1908) que puso 
 las bases de la Física Nuclear tal y como la conocemos hoy en día. A tra
 vés de la descripción de sus experimentos mostraré la influencia de la 
 Física Nuclear en la sociedad: centrales y armas nucleares o medicina nuc
 lear. Resulta también muy destacable la influencia de la Física Nuclear 
 en otras ramas del saber como la Geología\, la Planetología o la Astrof
 ísica\, así como el desarrollo tecnológico al que ha dado lugar: aceler
 adores\, detectores o reactores. Finalmente mostraré la imagen que se tie
 ne en la actualidad del núcleo atómico y de la interacción nuclear.\n\n
 https://indico.ific.uv.es/event/694/
LOCATION:Huelva
URL:https://indico.ific.uv.es/event/694/
END:VEVENT
END:VCALENDAR
