BEGIN:VCALENDAR
VERSION:2.0
PRODID:-//CERN//INDICO//EN
BEGIN:VEVENT
SUMMARY:Charlas CPAN 2012-2013 en IES de Salamanca: Charlas de la Universi
 dad de Salamanca
DTSTART;VALUE=DATE-TIME:20121011T070000Z
DTEND;VALUE=DATE-TIME:20130531T150000Z
DTSTAMP;VALUE=DATE-TIME:20260424T050131Z
UID:indico-event-693@indico.ific.uv.es
DESCRIPTION:El Centro Nacional de Física de Partículas\, Astropartícula
 s y Nuclear (CPAN) y sus centros participantes ofrecen una serie de charla
 s divulgativas a demanda para Institutos de Educación Secundaria. Un comp
 leto recorrido por unas disciplinas científicas situadas en la frontera d
 el conocimiento humano\, que buscan la respuesta a las preguntas esenciale
 s: ¿de qué están hechas las cosas? ¿Cómo se formó el Universo donde 
 vivimos? ¿Y la materia que nos compone? ¿Cómo evolucionará el Universo
 ? ¿Podemos mejorar nuestro aprovechamiento de la energía? ¿Y utilizar n
 uestro conocimiento para mejorar el diagnóstico de enfermedades?\n\nLos t
 emas de las conferencias abarcan los ámbitos donde trabajan los grupos de
  investigación del CPAN: la Física Experimental de Altas Energías y el 
 LHC\, el mayor acelerador de partículas del mundo que trata de desvelar c
 uestiones fundamentales como el origen de la masa o la existencia de part
 ículas supersimétricas\; las teorías sobre el origen y final del Univer
 so realizadas por los experimentos que se realizan en Física de Astropart
 ículas\; las investigaciones más actuales en Física Nuclear\, relaciona
 das con sus aplicaciones en diagnóstico y terapia médica o en energía\;
  y las bases teóricas de todo esto\, la Teoría de la Relatividad de Eins
 tein... Esta actividad se desarrolla hasta el final del curso 2011/2012.\n
 \nEste registro es para las charlas:\n                            La compl
 ejidad de lo elemental: del LHC al origen del Universo\n                  
           Apta para Bachillerato y alumnos de la asignatura Ciencias para 
 el Mundo Contemporáneo.\n\n                            Los núcleos y las
  partículas en la vida cotidiana\n                            Dirigida a 
 alumnos a partir de 4º de la ESO en la rama de Ciencias.\n\n             
                Materia y antimateria\n                            Dirigida
  a alumnos a partir de 4º de la ESO en la rama de Ciencias.\n\n          
                   Partículas elementales: el camino desde los átomos a l
 os quarks\n                            Una descripción histórica\, justi
 ficada y detallada de como hemos llegado al conjunto actual de lo que llam
 amos partículas elementales a partir de la estructura atómica de finales
  del siglo XIX.\n\n                            Visita guiada al núcleo at
 ómico\n                            Una descripción del descubrimiento\, 
 propiedades y fenómenos más importantes que ocurren en el núcleo atómi
 co.\n\nhttps://indico.ific.uv.es/event/693/
LOCATION:Salamanca
URL:https://indico.ific.uv.es/event/693/
END:VEVENT
END:VCALENDAR
