BEGIN:VCALENDAR
VERSION:2.0
PRODID:-//CERN//INDICO//EN
BEGIN:VEVENT
SUMMARY:Renovación ISO27001
DTSTART;VALUE=DATE-TIME:20230215T133000Z
DTEND;VALUE=DATE-TIME:20230215T135000Z
DTSTAMP;VALUE=DATE-TIME:20260424T173658Z
UID:indico-contribution-6911-20091@indico.ific.uv.es
DESCRIPTION:https://indico.ific.uv.es/event/6911/contributions/20091/
LOCATION:
URL:https://indico.ific.uv.es/event/6911/contributions/20091/
END:VEVENT
BEGIN:VEVENT
SUMMARY:Evaluación de las solicitudes de la convocatoria 2023.1
DTSTART;VALUE=DATE-TIME:20230215T141000Z
DTEND;VALUE=DATE-TIME:20230215T143000Z
DTSTAMP;VALUE=DATE-TIME:20260424T173658Z
UID:indico-contribution-6911-19835@indico.ific.uv.es
DESCRIPTION:Speakers: Jose Enrique Garcia Navarro (IFIC (Instituto de Fisi
 ca Corpuscular))\nhttps://indico.ific.uv.es/event/6911/contributions/19835
 /
LOCATION:
URL:https://indico.ific.uv.es/event/6911/contributions/19835/
END:VEVENT
BEGIN:VEVENT
SUMMARY:Discusión: Comentarios nuevos miembros comité
DTSTART;VALUE=DATE-TIME:20230215T150000Z
DTEND;VALUE=DATE-TIME:20230215T152000Z
DTSTAMP;VALUE=DATE-TIME:20260424T173658Z
UID:indico-contribution-6911-19834@indico.ific.uv.es
DESCRIPTION:https://indico.ific.uv.es/event/6911/contributions/19834/
LOCATION:
URL:https://indico.ific.uv.es/event/6911/contributions/19834/
END:VEVENT
BEGIN:VEVENT
SUMMARY:Novedades sobre el Plan Complementario y InnDIH
DTSTART;VALUE=DATE-TIME:20230215T145000Z
DTEND;VALUE=DATE-TIME:20230215T150000Z
DTSTAMP;VALUE=DATE-TIME:20260424T173658Z
UID:indico-contribution-6911-19833@indico.ific.uv.es
DESCRIPTION:https://indico.ific.uv.es/event/6911/contributions/19833/
LOCATION:
URL:https://indico.ific.uv.es/event/6911/contributions/19833/
END:VEVENT
BEGIN:VEVENT
SUMMARY:Reunión AIHUB y novedades
DTSTART;VALUE=DATE-TIME:20230215T143000Z
DTEND;VALUE=DATE-TIME:20230215T145000Z
DTSTAMP;VALUE=DATE-TIME:20260424T173658Z
UID:indico-contribution-6911-19832@indico.ific.uv.es
DESCRIPTION:Speakers: Arantza Oyanguren (IFIC- Valencia)\nhttps://indico.i
 fic.uv.es/event/6911/contributions/19832/
LOCATION:
URL:https://indico.ific.uv.es/event/6911/contributions/19832/
END:VEVENT
BEGIN:VEVENT
SUMMARY:Ruegos y preguntas
DTSTART;VALUE=DATE-TIME:20230215T153000Z
DTEND;VALUE=DATE-TIME:20230215T154500Z
DTSTAMP;VALUE=DATE-TIME:20260424T173658Z
UID:indico-contribution-6911-19831@indico.ific.uv.es
DESCRIPTION:https://indico.ific.uv.es/event/6911/contributions/19831/
LOCATION:
URL:https://indico.ific.uv.es/event/6911/contributions/19831/
END:VEVENT
BEGIN:VEVENT
SUMMARY:Fecha de la próxima reunión
DTSTART;VALUE=DATE-TIME:20230215T152000Z
DTEND;VALUE=DATE-TIME:20230215T153000Z
DTSTAMP;VALUE=DATE-TIME:20260424T173658Z
UID:indico-contribution-6911-19830@indico.ific.uv.es
DESCRIPTION:https://indico.ific.uv.es/event/6911/contributions/19830/
LOCATION:
URL:https://indico.ific.uv.es/event/6911/contributions/19830/
END:VEVENT
BEGIN:VEVENT
SUMMARY:Situación general de Artemisa
DTSTART;VALUE=DATE-TIME:20230215T135000Z
DTEND;VALUE=DATE-TIME:20230215T141000Z
DTSTAMP;VALUE=DATE-TIME:20260424T173658Z
UID:indico-contribution-6911-19829@indico.ific.uv.es
DESCRIPTION:Speakers: Fco. Javier Sanchez Martinez (IFIC)\nhttps://indico.
 ific.uv.es/event/6911/contributions/19829/
LOCATION:
URL:https://indico.ific.uv.es/event/6911/contributions/19829/
END:VEVENT
END:VCALENDAR
