BEGIN:VCALENDAR
VERSION:2.0
PRODID:-//CERN//INDICO//EN
BEGIN:VEVENT
SUMMARY:Discussion
DTSTART;VALUE=DATE-TIME:20221020T101000Z
DTEND;VALUE=DATE-TIME:20221020T105000Z
DTSTAMP;VALUE=DATE-TIME:20260423T185749Z
UID:indico-contribution-19264@indico.ific.uv.es
DESCRIPTION:https://indico.ific.uv.es/event/6830/contributions/19264/
LOCATION:Universe 1001-Primera-119 - Nave. Exp. Sala de Reuniones
URL:https://indico.ific.uv.es/event/6830/contributions/19264/
END:VEVENT
END:VCALENDAR
